BEGIN:VCALENDAR
VERSION:2.0
PRODID:-//ZContent.net//ZapCalLib 1.0//EN
CALSCALE:GREGORIAN
METHOD:PUBLISH
BEGIN:VEVENT
SUMMARY: Israel’s democracy endangered? | BÖLL LUNCH DEBATE
DTSTART:20111129T123000
DTEND:20111129T143000
UID:2026-04-22-22-53-42-0-@calendar.boell.de
DTSTAMP:20260422T205342
DESCRIPTION:
END:VEVENT
END:VCALENDAR
