BEGIN:VCALENDAR
VERSION:2.0
PRODID:-//ZContent.net//ZapCalLib 1.0//EN
CALSCALE:GREGORIAN
METHOD:PUBLISH
BEGIN:VEVENT
SUMMARY:Projektmanagement | Organisiert Ziele erreichen
DTSTART:20120305T100000
DTEND:20120307T130000
UID:2026-04-23-01-07-56-0-@calendar.boell.de
DTSTAMP:20260422T230756
DESCRIPTION:Landesstiftung Nordrhein-Westfalen
END:VEVENT
END:VCALENDAR
