BEGIN:VCALENDAR
VERSION:2.0
PRODID:-//ZContent.net//ZapCalLib 1.0//EN
CALSCALE:GREGORIAN
METHOD:PUBLISH
BEGIN:VEVENT
SUMMARY:Green Economy - Wirtschaften für nachhaltige Lebensbedingungen | E
 rkenntnisse zu politischen Perspektiven gender_gerechten Wirtschaftens 
DTSTART:20111111T110000
DTEND:20111111T170000
UID:2026-04-26-05-22-06-0-@calendar.boell.de
DTSTAMP:20260426T032206
DESCRIPTION:
END:VEVENT
END:VCALENDAR
