BEGIN:VCALENDAR
VERSION:2.0
PRODID:-//ZContent.net//ZapCalLib 1.0//EN
CALSCALE:GREGORIAN
METHOD:PUBLISH
BEGIN:VEVENT
SUMMARY:Europe Unlimited | Belgrad Radio Taxi | Film | 26. Unabhängiges F
 ilmfest Oldenburg
DTSTART:20111013T220000
DTEND:20111013T220000
UID:2026-04-23-09-18-53-0-@calendar.boell.de
DTSTAMP:20260423T071853
DESCRIPTION:Externe Veranstaltung
END:VEVENT
END:VCALENDAR
