BEGIN:VCALENDAR
VERSION:2.0
PRODID:-//ZContent.net//ZapCalLib 1.0//EN
CALSCALE:GREGORIAN
METHOD:PUBLISH
BEGIN:VEVENT
SUMMARY:Î•Î½Î±Î»Î»Î±ÎºÏ„Î¹ÎºÎ­Ï‚ Î±Ï†Î·Î³Î®ÏƒÎµÎ¹Ï‚ Î³Î¹Î± Ï„Î¿Î½ ÎšÎ¿Î¹Î½Ï
 ‰Î½Î¹ÎºÎ¿-ÎŸÎ¹ÎºÎ¿Î»Î¿Î³Î¹ÎºÏŒ ÎœÎµÏ„Î±ÏƒÏ‡Î·Î¼Î±Ï„Î¹ÏƒÎ¼ÏŒ | Î‘Ï€Î¿Î±Î½Î¬
 Ï€Ï„Ï…Î¾Î· ÎºÎ±Î¹ Î’Î±ÏƒÎ¹ÎºÏŒ ÎšÎ±Î¸Î¿Î»Î¹ÎºÏŒ Î•Î¹ÏƒÏŒÎ´Î·Î¼Î±
DTSTART:20190518T103000
DTEND:20190518T183000
UID:2026-04-23-20-59-14-0-@calendar.boell.de
DTSTAMP:20260423T185914
DESCRIPTION:
END:VEVENT
END:VCALENDAR
