BEGIN:VCALENDAR
VERSION:2.0
PRODID:-//ZContent.net//ZapCalLib 1.0//EN
CALSCALE:GREGORIAN
METHOD:PUBLISH
BEGIN:VEVENT
SUMMARY:Πόλεις και περιαστικά δάση: O ρόλος τ
 ν κοινοτήτων στην πρόληψη πυρκαγιών
DTSTART:20250927T113000
DTEND:20250927T130000
UID:2026-04-19-21-02-22-0-@calendar.boell.de
DTSTAMP:20260419T190222
DESCRIPTION:▶ Siehe Veranstaltungsbeschreibung – 
END:VEVENT
END:VCALENDAR
