BEGIN:VCALENDAR
VERSION:2.0
PRODID:-//ZContent.net//ZapCalLib 1.0//EN
CALSCALE:GREGORIAN
METHOD:PUBLISH
BEGIN:VEVENT
SUMMARY:The Red-Dead Sea Canal - Implications for Palestine
DTSTART:20131205T120000
DTEND:20131205T150000
UID:2026-04-22-03-23-32-0-@calendar.boell.de
DTSTAMP:20260422T012332
DESCRIPTION:
END:VEVENT
END:VCALENDAR
