BEGIN:VCALENDAR
VERSION:2.0
PRODID:-//ZContent.net//ZapCalLib 1.0//EN
CALSCALE:GREGORIAN
METHOD:PUBLISH
BEGIN:VEVENT
SUMMARY:Böll Debates | The Kerry Framework – (Any)where to go from here?
DTSTART:20140306T120000
DTEND:20140306T120000
UID:2026-04-23-14-11-59-0-@calendar.boell.de
DTSTAMP:20260423T121159
DESCRIPTION:Heinrich-Böll-Stiftung Palästina und Jordanien
END:VEVENT
END:VCALENDAR
