BEGIN:VCALENDAR
VERSION:2.0
PRODID:-//ZContent.net//ZapCalLib 1.0//EN
CALSCALE:GREGORIAN
METHOD:PUBLISH
BEGIN:VEVENT
SUMMARY:trialogue 2047 "Means of Implementation"
DTSTART:20140619T180000
DTEND:20140619T193000
UID:2026-04-23-06-55-32-0-@calendar.boell.de
DTSTAMP:20260423T045532
DESCRIPTION:
END:VEVENT
END:VCALENDAR
