BEGIN:VCALENDAR
VERSION:2.0
PRODID:-//ZContent.net//ZapCalLib 1.0//EN
CALSCALE:GREGORIAN
METHOD:PUBLISH
BEGIN:VEVENT
SUMMARY:Art in Exile: Film Screening and Art Exhibition
DTSTART:20141013T183000
DTEND:20141014T220000
UID:2026-04-22-03-23-36-0-@calendar.boell.de
DTSTAMP:20260422T012336
DESCRIPTION:
END:VEVENT
END:VCALENDAR
