BEGIN:VCALENDAR
VERSION:2.0
PRODID:-//ZContent.net//ZapCalLib 1.0//EN
CALSCALE:GREGORIAN
METHOD:PUBLISH
BEGIN:VEVENT
SUMMARY:X Festiwal Obywatela | Matronat Fundacji im. Henricha Bölla 
DTSTART:20141017T161500
DTEND:20141019T181500
UID:2026-04-20-01-05-38-0-@calendar.boell.de
DTSTAMP:20260419T230538
DESCRIPTION:
END:VEVENT
END:VCALENDAR
