BEGIN:VCALENDAR
VERSION:2.0
PRODID:-//ZContent.net//ZapCalLib 1.0//EN
CALSCALE:GREGORIAN
METHOD:PUBLISH
BEGIN:VEVENT
SUMMARY:Obnovitelné zdroje energie stojí…za to | Renewable sources of e
 nergy are worth…it
DTSTART:20141021T090000
DTEND:20141021T160000
UID:2026-04-21-12-45-24-0-@calendar.boell.de
DTSTAMP:20260421T104524
DESCRIPTION:Heinrich-Böll-Stiftung Prag - Tschechische Republik\, Slowakei
 \, Ungarn
END:VEVENT
END:VCALENDAR
