BEGIN:VCALENDAR
VERSION:2.0
PRODID:-//ZContent.net//ZapCalLib 1.0//EN
CALSCALE:GREGORIAN
METHOD:PUBLISH
BEGIN:VEVENT
SUMMARY:Preventing Proliferation and Advancing Nuclear Disarmament
DTSTART:20141020T093000
DTEND:20141020T143000
UID:2026-04-22-16-44-30-0-@calendar.boell.de
DTSTAMP:20260422T144430
DESCRIPTION:
END:VEVENT
END:VCALENDAR
