BEGIN:VCALENDAR
VERSION:2.0
PRODID:-//ZContent.net//ZapCalLib 1.0//EN
CALSCALE:GREGORIAN
METHOD:PUBLISH
BEGIN:VEVENT
SUMMARY:UDADA International Film Festival | Celebrating African Women In Ar
 ts
DTSTART:20141024T153000
DTEND:20141029T223000
UID:2026-04-21-10-26-12-0-@calendar.boell.de
DTSTAMP:20260421T082612
DESCRIPTION:
END:VEVENT
END:VCALENDAR
