BEGIN:VCALENDAR
VERSION:2.0
PRODID:-//ZContent.net//ZapCalLib 1.0//EN
CALSCALE:GREGORIAN
METHOD:PUBLISH
BEGIN:VEVENT
SUMMARY:Labor Culture and Religious Discourse in Different Communities of G
 eorgia /  შრომის კულტურა და რელიგ
 ური დისკურსი საქართველოს ს
 ხვადასხვა თემში | Public Debates in Batumi / 
 აჯარო დებატები ბათუმში
DTSTART:20141127T170000
DTEND:20141127T190000
UID:2026-04-26-04-41-42-0-@calendar.boell.de
DTSTAMP:20260426T024142
DESCRIPTION:Batumi – Heinrich-Böll-Stiftung Tbilisi - Region Südkaukasu
 s
END:VEVENT
END:VCALENDAR
