BEGIN:VCALENDAR
VERSION:2.0
PRODID:-//ZContent.net//ZapCalLib 1.0//EN
CALSCALE:GREGORIAN
METHOD:PUBLISH
BEGIN:VEVENT
SUMMARY:Böll Debates: The Joint List and the Israeli Elections – What do
 es it mean for Palestinian politics?
DTSTART:20150415T130000
DTEND:20150415T130000
UID:2026-04-21-10-25-38-0-@calendar.boell.de
DTSTAMP:20260421T082538
DESCRIPTION:Ramallah – 
END:VEVENT
END:VCALENDAR
