BEGIN:VCALENDAR
VERSION:2.0
PRODID:-//ZContent.net//ZapCalLib 1.0//EN
CALSCALE:GREGORIAN
METHOD:PUBLISH
BEGIN:VEVENT
SUMMARY:Book Launch: Coping with Climate Change | Edited by Dr.Suman Sahai
DTSTART:20150502T183000
DTEND:20150502T183000
UID:2026-04-22-01-15-40-0-@calendar.boell.de
DTSTAMP:20260421T231540
DESCRIPTION:New Delhi – Heinrich-Böll-Stiftung | Regionalbüro Neu Delhi
END:VEVENT
END:VCALENDAR
