BEGIN:VCALENDAR
VERSION:2.0
PRODID:-//ZContent.net//ZapCalLib 1.0//EN
CALSCALE:GREGORIAN
METHOD:PUBLISH
BEGIN:VEVENT
SUMMARY:Discussion: FOR SALE : SELL-OUT - alienation and resilience of soci
 eties with Silvia Maria Grossmann (AT), Aurelia Meinhart (AT) & Julian Pal
 acz (AT) introduced by Luise Kloos  | REALISE at the 56th Venice Biennale 
 2015 _06 - 10 May 2015
DTSTART:20150508T150000
DTEND:20150508T163000
UID:2026-04-21-10-26-27-0-@calendar.boell.de
DTSTAMP:20260421T082627
DESCRIPTION:
END:VEVENT
END:VCALENDAR
