BEGIN:VCALENDAR
VERSION:2.0
PRODID:-//ZContent.net//ZapCalLib 1.0//EN
CALSCALE:GREGORIAN
METHOD:PUBLISH
BEGIN:VEVENT
SUMMARY:BOOK LAUNCH: PARTITION THE LONG SHADOW | Edited by Urvashi Butalia
DTSTART:20150807T170000
DTEND:20150807T183000
UID:2026-04-23-06-55-33-0-@calendar.boell.de
DTSTAMP:20260423T045533
DESCRIPTION:Ahmedabad – Heinrich-Böll-Stiftung | Regionalbüro Neu Delhi
END:VEVENT
END:VCALENDAR
