BEGIN:VCALENDAR
VERSION:2.0
PRODID:-//ZContent.net//ZapCalLib 1.0//EN
CALSCALE:GREGORIAN
METHOD:PUBLISH
BEGIN:VEVENT
SUMMARY:Breakfast Discussion:  | Decoupling Economic Growth from Fossil Fue
 l Consumption and CO2 Emissions
DTSTART:20150923T083000
DTEND:20150923T100000
UID:2026-04-26-04-41-41-0-@calendar.boell.de
DTSTAMP:20260426T024141
DESCRIPTION:
END:VEVENT
END:VCALENDAR
