BEGIN:VCALENDAR
VERSION:2.0
PRODID:-//ZContent.net//ZapCalLib 1.0//EN
CALSCALE:GREGORIAN
METHOD:PUBLISH
BEGIN:VEVENT
SUMMARY:U.S. Launch of the 2015 World Nuclear Industry Status Report
DTSTART:20151013T120000
DTEND:20151013T133000
UID:2026-04-21-19-14-35-0-@calendar.boell.de
DTSTAMP:20260421T171435
DESCRIPTION:Washington D.C. – Heinrich-Böll-Stiftung Washington\, DC - U
 SA\, Kanada\, Globaler Dialog
END:VEVENT
END:VCALENDAR
