BEGIN:VCALENDAR
VERSION:2.0
PRODID:-//ZContent.net//ZapCalLib 1.0//EN
CALSCALE:GREGORIAN
METHOD:PUBLISH
BEGIN:VEVENT
SUMMARY:Lecture on “Green Growth, Smart Growth – A New Approach to Econ
 omics, the Environment & Innovation”
DTSTART:20151007T170000
DTEND:20151007T180000
UID:2026-04-23-00-23-36-0-@calendar.boell.de
DTSTAMP:20260422T222336
DESCRIPTION:Ahmedabad – Heinrich-Böll-Stiftung | Regionalbüro Neu Delhi
END:VEVENT
END:VCALENDAR
