BEGIN:VCALENDAR
VERSION:2.0
PRODID:-//ZContent.net//ZapCalLib 1.0//EN
CALSCALE:GREGORIAN
METHOD:PUBLISH
BEGIN:VEVENT
SUMMARY:Cultures of Peace:  | Festival of the Northeast 
DTSTART:20151024T100000
DTEND:20151024T180000
UID:2026-04-24-14-15-26-0-@calendar.boell.de
DTSTAMP:20260424T121526
DESCRIPTION:Guwahati – Heinrich-Böll-Stiftung | Regionalbüro Neu Delhi
END:VEVENT
END:VCALENDAR
