BEGIN:VCALENDAR
VERSION:2.0
PRODID:-//ZContent.net//ZapCalLib 1.0//EN
CALSCALE:GREGORIAN
METHOD:PUBLISH
BEGIN:VEVENT
SUMMARY:Ensuring Deterrence against Russia: The View from NATO States
DTSTART:20160120T120000
DTEND:20160120T140000
UID:2026-04-22-03-23-29-0-@calendar.boell.de
DTSTAMP:20260422T012329
DESCRIPTION:▶ Siehe Veranstaltungsbeschreibung – Heinrich-Böll-Stiftun
 g Washington\, DC - USA\, Kanada\, Globaler Dialog
END:VEVENT
END:VCALENDAR
