BEGIN:VCALENDAR
VERSION:2.0
PRODID:-//ZContent.net//ZapCalLib 1.0//EN
CALSCALE:GREGORIAN
METHOD:PUBLISH
BEGIN:VEVENT
SUMMARY:Dialogue on Beti Bachao Beti Padhao
DTSTART:20160218T100000
DTEND:20160219T170000
UID:2026-04-22-06-44-08-0-@calendar.boell.de
DTSTAMP:20260422T044408
DESCRIPTION:Kurukshetra – Externe Veranstaltung
END:VEVENT
END:VCALENDAR
