BEGIN:VCALENDAR
VERSION:2.0
PRODID:-//ZContent.net//ZapCalLib 1.0//EN
CALSCALE:GREGORIAN
METHOD:PUBLISH
BEGIN:VEVENT
SUMMARY: უხილაობასთან დაპირისპი
 ება: კრეატიული აქტივიზმის მ
 ნიშვნელობა ლგბტქი+ თემის (თვ
 ით)რეპრეზენტაციისთვის / Challengin
 g In/Visibility: Importance of Creative Activism for (Self)Representation 
 of LGBTQI+ Community | შეხვედრა ალექსანდ
 ა იჰნატოვიჩთან / A meeting with Aliaksandra Ihn
 atovich
DTSTART:20160513T190000
DTEND:20160513T210000
UID:2026-04-26-01-21-34-0-@calendar.boell.de
DTSTAMP:20260425T232134
DESCRIPTION:▶ Siehe Veranstaltungsbeschreibung – Heinrich-Böll-Stiftun
 g Tbilisi - Region Südkaukasus
END:VEVENT
END:VCALENDAR
