BEGIN:VCALENDAR
VERSION:2.0
PRODID:-//ZContent.net//ZapCalLib 1.0//EN
CALSCALE:GREGORIAN
METHOD:PUBLISH
BEGIN:VEVENT
SUMMARY:Gender Empowerment and Treated Wastewater Reuse in Ein Qinia | Fina
 l Study Presentation by Dr. Marwan Ghanem
DTSTART:20161012T110000
DTEND:20161012T110000
UID:2026-04-21-21-10-28-0-@calendar.boell.de
DTSTAMP:20260421T191028
DESCRIPTION:▶ Siehe Veranstaltungsbeschreibung – Ramallah – Heinrich-
 Böll-Stiftung Palästina und Jordanien
END:VEVENT
END:VCALENDAR
