BEGIN:VCALENDAR
VERSION:2.0
PRODID:-//ZContent.net//ZapCalLib 1.0//EN
CALSCALE:GREGORIAN
METHOD:PUBLISH
BEGIN:VEVENT
SUMMARY:Cultures of Peace: Festival of the Northeast
DTSTART:20161110T100000
DTEND:20161110T160000
UID:2026-04-23-06-55-18-0-@calendar.boell.de
DTSTAMP:20260423T045518
DESCRIPTION:Guwahati – Externe Veranstaltung
END:VEVENT
END:VCALENDAR
