BEGIN:VCALENDAR
VERSION:2.0
PRODID:-//ZContent.net//ZapCalLib 1.0//EN
CALSCALE:GREGORIAN
METHOD:PUBLISH
BEGIN:VEVENT
SUMMARY:Living Lightly: Journeys with Pastoralists
DTSTART:20161202T170000
DTEND:20161202T200000
UID:2026-04-23-06-55-35-0-@calendar.boell.de
DTSTAMP:20260423T045535
DESCRIPTION:New Delhi – Externe Veranstaltung
END:VEVENT
BEGIN:VEVENT
SUMMARY:Living Lightly: Journeys with Pastoralists
DTSTART:20161218T200000
DTEND:20161218T200000
UID:2026-04-23-04-55-35-1-@calendar.boell.de
DTSTAMP:20260423T045535
DESCRIPTION:New Delhi – Externe Veranstaltung
END:VEVENT
END:VCALENDAR
