BEGIN:VCALENDAR
VERSION:2.0
PRODID:-//ZContent.net//ZapCalLib 1.0//EN
CALSCALE:GREGORIAN
METHOD:PUBLISH
BEGIN:VEVENT
SUMMARY:Lecture on “Green Economy: Promises and Pitfalls”
DTSTART:20170203T173000
DTEND:20170203T190000
UID:2026-04-22-22-12-00-0-@calendar.boell.de
DTSTAMP:20260422T201200
DESCRIPTION:Shillong – Externe Veranstaltung
END:VEVENT
END:VCALENDAR
