BEGIN:VCALENDAR
VERSION:2.0
PRODID:-//ZContent.net//ZapCalLib 1.0//EN
CALSCALE:GREGORIAN
METHOD:PUBLISH
BEGIN:VEVENT
SUMMARY: SUB-GRANTING CLOSING CEREMONY
DTSTART:20170503T130000
DTEND:20170503T130000
UID:2026-04-22-03-23-35-0-@calendar.boell.de
DTSTAMP:20260422T012335
DESCRIPTION:Ramallah – Heinrich-Böll-Stiftung Palästina und Jordanien
END:VEVENT
END:VCALENDAR
