BEGIN:VCALENDAR
VERSION:2.0
PRODID:-//ZContent.net//ZapCalLib 1.0//EN
CALSCALE:GREGORIAN
METHOD:PUBLISH
BEGIN:VEVENT
SUMMARY:Böll Debate: Study Launch | "The Protection of Natural Resources i
 n the Occupied Palestinian Territory: An Environmental Approach” 
DTSTART:20170511T110000
DTEND:20170511T110000
UID:2026-04-23-17-54-59-0-@calendar.boell.de
DTSTAMP:20260423T155459
DESCRIPTION:Ramallah – Heinrich-Böll-Stiftung Palästina und Jordanien
END:VEVENT
END:VCALENDAR
