BEGIN:VCALENDAR
VERSION:2.0
PRODID:-//ZContent.net//ZapCalLib 1.0//EN
CALSCALE:GREGORIAN
METHOD:PUBLISH
BEGIN:VEVENT
SUMMARY:Politiques agricoles européennes : quels enjeux pour la future ré
 forme ? | Atelier aux Journées d'été des écologistes
DTSTART:20170825T180000
DTEND:20170825T193000
UID:2026-04-26-06-15-26-0-@calendar.boell.de
DTSTAMP:20260426T041526
DESCRIPTION:Dünkirchen – Heinrich-Böll-Stiftung Paris - Frankreich | It
 alien
END:VEVENT
END:VCALENDAR
