BEGIN:VCALENDAR
VERSION:2.0
PRODID:-//ZContent.net//ZapCalLib 1.0//EN
CALSCALE:GREGORIAN
METHOD:PUBLISH
BEGIN:VEVENT
SUMMARY:National Conference on Business Responsibility for Childcare in Wor
 kplaces
DTSTART:20171024T093000
DTEND:20171024T153000
UID:2026-04-22-22-12-07-0-@calendar.boell.de
DTSTAMP:20260422T201207
DESCRIPTION:New Delhi – Externe Veranstaltung
END:VEVENT
END:VCALENDAR
