BEGIN:VCALENDAR
VERSION:2.0
PRODID:-//ZContent.net//ZapCalLib 1.0//EN
CALSCALE:GREGORIAN
METHOD:PUBLISH
BEGIN:VEVENT
SUMMARY:Thank You For The Rain - Film Screening | November 29th, 2017 | All
 iance Française | 6:30pm - 8:30pm
DTSTART:20171129T183000
DTEND:20171129T203000
UID:2026-04-26-06-15-25-0-@calendar.boell.de
DTSTAMP:20260426T041525
DESCRIPTION:Nairobi – Heinrich-Böll-Stiftung Nairobi Office - Kenya\, Ug
 anda\, Tanzania
END:VEVENT
END:VCALENDAR
