BEGIN:VCALENDAR
VERSION:2.0
PRODID:-//ZContent.net//ZapCalLib 1.0//EN
CALSCALE:GREGORIAN
METHOD:PUBLISH
BEGIN:VEVENT
SUMMARY:19th Organic World Congress
DTSTART:20171109T100000
DTEND:20171111T180000
UID:2026-04-22-20-39-04-0-@calendar.boell.de
DTSTAMP:20260422T183904
DESCRIPTION:Gretar Noida – Externe Veranstaltung
END:VEVENT
END:VCALENDAR
