BEGIN:VCALENDAR
VERSION:2.0
PRODID:-//ZContent.net//ZapCalLib 1.0//EN
CALSCALE:GREGORIAN
METHOD:PUBLISH
BEGIN:VEVENT
SUMMARY:2. Encuentro Nacional del Movimiento Ambiental Nacional | Encuentro
DTSTART:20171118T120000
DTEND:20171119T140000
UID:2026-04-19-18-43-35-0-@calendar.boell.de
DTSTAMP:20260419T164335
DESCRIPTION:Ibagué – Heinrich-Böll-Stiftung Bogota - Kolumbien
END:VEVENT
END:VCALENDAR
