BEGIN:VCALENDAR
VERSION:2.0
PRODID:-//ZContent.net//ZapCalLib 1.0//EN
CALSCALE:GREGORIAN
METHOD:PUBLISH
BEGIN:VEVENT
SUMMARY:11th Dr. Asghar Ali Engineer Memorial Lecture on "Secularism: Its m
 eaning and the need for it"
DTSTART:20180906T160000
DTEND:20180906T180000
UID:2026-04-23-17-54-58-0-@calendar.boell.de
DTSTAMP:20260423T155458
DESCRIPTION:Heinrich-Böll-Stiftung | Regionalbüro Neu Delhi
END:VEVENT
END:VCALENDAR
