BEGIN:VCALENDAR
VERSION:2.0
PRODID:-//ZContent.net//ZapCalLib 1.0//EN
CALSCALE:GREGORIAN
METHOD:PUBLISH
BEGIN:VEVENT
SUMMARY:Modernisiert sich Russland von unten? | Gesellschaftspolitische Ini
 tiativen auf kommunaler Ebene
DTSTART:20181106T180000
DTEND:20181106T211500
UID:2026-04-22-01-38-40-0-@calendar.boell.de
DTSTAMP:20260421T233840
DESCRIPTION:Heinrich-Böll-Stiftung - Bundesstiftung Berlin – Berlin – 
 Heinrich-Böll-Stiftung - Bundesstiftung Berlin
END:VEVENT
END:VCALENDAR
