BEGIN:VCALENDAR
VERSION:2.0
PRODID:-//ZContent.net//ZapCalLib 1.0//EN
CALSCALE:GREGORIAN
METHOD:PUBLISH
BEGIN:VEVENT
SUMMARY:Concurso de fotografía O´KO | Festival Mambe
DTSTART:20180911T080000
DTEND:20181028T235900
UID:2026-04-23-05-29-04-0-@calendar.boell.de
DTSTAMP:20260423T032904
DESCRIPTION:Florencia – 
END:VEVENT
END:VCALENDAR
