BEGIN:VCALENDAR
VERSION:2.0
PRODID:-//ZContent.net//ZapCalLib 1.0//EN
CALSCALE:GREGORIAN
METHOD:PUBLISH
BEGIN:VEVENT
SUMMARY:Gender and Economic Policy Discussion Forum XXVII: | The Gendered E
 ffects of Air Pollution
DTSTART:20181005T100000
DTEND:20181005T130000
UID:2026-04-22-03-23-18-0-@calendar.boell.de
DTSTAMP:20260422T012318
DESCRIPTION:Externe Veranstaltung
END:VEVENT
END:VCALENDAR
