BEGIN:VCALENDAR
VERSION:2.0
PRODID:-//ZContent.net//ZapCalLib 1.0//EN
CALSCALE:GREGORIAN
METHOD:PUBLISH
BEGIN:VEVENT
SUMMARY:Kenya Arts Diary Launch & Arts Exhibition | 2nd November 2018, Prof
 . Wangari Maathai Rd., Parklands
DTSTART:20181102T014859
DTEND:20181102T235959
UID:2026-04-23-05-22-52-0-@calendar.boell.de
DTSTAMP:20260423T032252
DESCRIPTION:Nairobi – 
END:VEVENT
END:VCALENDAR
