BEGIN:VCALENDAR
VERSION:2.0
PRODID:-//ZContent.net//ZapCalLib 1.0//EN
CALSCALE:GREGORIAN
METHOD:PUBLISH
BEGIN:VEVENT
SUMMARY:Movilidad Sostenible, Equidad y Derecho a la Ciudad | Función espe
 cial de la Muestra Internacional Cine y Movilidad
DTSTART:20181022T180000
DTEND:20181022T200000
UID:2026-04-22-14-23-10-0-@calendar.boell.de
DTSTAMP:20260422T122310
DESCRIPTION:▶ Siehe Veranstaltungsbeschreibung – Mexiko-Stadt – Heinr
 ich-Böll-Stiftung Mexiko-Stadt - Mexiko und Karibik
END:VEVENT
END:VCALENDAR
