BEGIN:VCALENDAR
VERSION:2.0
PRODID:-//ZContent.net//ZapCalLib 1.0//EN
CALSCALE:GREGORIAN
METHOD:PUBLISH
BEGIN:VEVENT
SUMMARY:Derechos Étnicos y Desarrollo | Foro
DTSTART:20181019T160000
DTEND:20181019T180000
UID:2026-04-23-16-30-17-0-@calendar.boell.de
DTSTAMP:20260423T143017
DESCRIPTION:Bogotá – 
END:VEVENT
END:VCALENDAR
