BEGIN:VCALENDAR
VERSION:2.0
PRODID:-//ZContent.net//ZapCalLib 1.0//EN
CALSCALE:GREGORIAN
METHOD:PUBLISH
BEGIN:VEVENT
SUMMARY:La gifle et les roses : cinquantenaire d'un geste contre l'oubli | 
 Dialogue entre Beate Klarsfeld et René Böll
DTSTART:20181105T193000
DTEND:20181105T213000
UID:2026-04-23-09-09-01-0-@calendar.boell.de
DTSTAMP:20260423T070901
DESCRIPTION:▶ Siehe Veranstaltungsbeschreibung – Paris – Heinrich-Bö
 ll-Stiftung Paris - Frankreich | Italien
END:VEVENT
END:VCALENDAR
