BEGIN:VCALENDAR
VERSION:2.0
PRODID:-//ZContent.net//ZapCalLib 1.0//EN
CALSCALE:GREGORIAN
METHOD:PUBLISH
BEGIN:VEVENT
SUMMARY:Forum Aktywnych Kobiet
DTSTART:20181109T170000
DTEND:20181109T203000
UID:2026-04-24-21-29-56-0-@calendar.boell.de
DTSTAMP:20260424T192956
DESCRIPTION:Katowice – Heinrich-Böll-Stiftung Warschau - Polen
END:VEVENT
END:VCALENDAR
