BEGIN:VCALENDAR
VERSION:2.0
PRODID:-//ZContent.net//ZapCalLib 1.0//EN
CALSCALE:GREGORIAN
METHOD:PUBLISH
BEGIN:VEVENT
SUMMARY:Desafiando la tierra | Cine foro
DTSTART:20181113T180000
DTEND:20181113T200000
UID:2026-04-22-22-55-12-0-@calendar.boell.de
DTSTAMP:20260422T205512
DESCRIPTION:Bogotá – Heinrich-Böll-Stiftung Bogota - Kolumbien
END:VEVENT
END:VCALENDAR
