BEGIN:VCALENDAR
VERSION:2.0
PRODID:-//ZContent.net//ZapCalLib 1.0//EN
CALSCALE:GREGORIAN
METHOD:PUBLISH
BEGIN:VEVENT
SUMMARY:Westlicher Balkan und die Ukraine: Die Rolle der EU für die Modern
 isierung durch höhere Klimaziele
DTSTART:20181122T130000
DTEND:20181122T160000
UID:2026-04-23-22-10-18-0-@calendar.boell.de
DTSTAMP:20260423T201018
DESCRIPTION:▶ Siehe Veranstaltungsbeschreibung – Brüssel – Heinrich-
 Böll-Stiftung - Bundesstiftung Berlin
END:VEVENT
END:VCALENDAR
