BEGIN:VCALENDAR
VERSION:2.0
PRODID:-//ZContent.net//ZapCalLib 1.0//EN
CALSCALE:GREGORIAN
METHOD:PUBLISH
BEGIN:VEVENT
SUMMARY:12th Dr. Asghar Ali Engineer Memorial Lecture on "Muslim of India :
  Past and Present"
DTSTART:20181123T170000
DTEND:20181123T200000
UID:2026-04-23-12-25-17-0-@calendar.boell.de
DTSTAMP:20260423T102517
DESCRIPTION:
END:VEVENT
END:VCALENDAR
