BEGIN:VCALENDAR
VERSION:2.0
PRODID:-//ZContent.net//ZapCalLib 1.0//EN
CALSCALE:GREGORIAN
METHOD:PUBLISH
BEGIN:VEVENT
SUMMARY:6 Festival Mambe | Festival
DTSTART:20181106T174841
DTEND:20181110T184841
UID:2026-04-23-23-06-51-0-@calendar.boell.de
DTSTAMP:20260423T210651
DESCRIPTION:Florencia – 
END:VEVENT
END:VCALENDAR
